BEGIN:VCALENDAR
PRODID:-//kirchenweb.ch gmbh//veranstaltungsausgabe v2.0//DE
VERSION:2.0
METHOD:PUBLISH
BEGIN:VEVENT
DTSTART:20231113T144000Z
DTEND:20231113T152500Z
LOCATION:Kirchgemeindehaus Elgg Sitzungszimmer\, Lindenplatz 1\, 8353 Elgg
TRANSP:OPAQUE
SEQUENCE:0
UID:11630-veranstaltung@kirche-eulachtal.ch
DTSTAMP:20230531T092630Z
DESCRIPTION:Kontakt: Barbara Hofer\n\nWeitere Infos:
  https://www.kirche-eulachtal.ch/veranstaltung/11630
SUMMARY:3.Klass-Unti Elgg
PRIORITY:5
X-MICROSOFT-CDO-IMPORTANCE:1
CLASS:PUBLIC
END:VEVENT
END:VCALENDAR
