BEGIN:VCALENDAR
PRODID:-//kirchenweb.ch gmbh//veranstaltungsausgabe v2.0//DE
VERSION:2.0
METHOD:PUBLISH
BEGIN:VEVENT
DTSTART:20231112T083000Z
DTEND:20231112T093000Z
LOCATION:Kirchgemeindehaus Elgg Dachraum\, Lindenplatz 1\, 8353 Elgg
TRANSP:OPAQUE
SEQUENCE:0
UID:13338-veranstaltung@kirche-eulachtal.ch
DTSTAMP:20230928T072606Z
DESCRIPTION:Kontakt: Johanna Breidenbach\n\nWeitere Infos:
  https://www.kirche-eulachtal.ch/veranstaltung/13338
SUMMARY:Chinderhüeti
PRIORITY:5
X-MICROSOFT-CDO-IMPORTANCE:1
CLASS:PUBLIC
END:VEVENT
END:VCALENDAR
