BEGIN:VCALENDAR
PRODID:-//kirchenweb.ch gmbh//veranstaltungsausgabe v2.0//DE
VERSION:2.0
METHOD:PUBLISH
BEGIN:VEVENT
DTSTART:20260422T113000Z
DTEND:20260422T153000Z
LOCATION:Exkursion Zürich\, \,
TRANSP:OPAQUE
SEQUENCE:0
UID:14271-veranstaltung@kirche-eulachtal.ch
DTSTAMP:20260414T103244Z
DESCRIPTION:Die Reformation - es geht um die Wurst\nExkursion nach Zürich
 \n\nKontakt: Barbara Hofer\n\nWeitere Infos:
  https://www.kirche-eulachtal.ch/veranstaltung/14271
SUMMARY:Juki 6/7 Elgg
PRIORITY:5
X-MICROSOFT-CDO-IMPORTANCE:1
CLASS:PUBLIC
END:VEVENT
END:VCALENDAR
