BEGIN:VCALENDAR
PRODID:-//kirchenweb.ch gmbh//veranstaltungsausgabe v2.0//DE
VERSION:2.0
METHOD:PUBLISH
BEGIN:VEVENT
DTSTART:20260507T151500Z
DTEND:20260507T173000Z
LOCATION:Kirchgemeindehaus Elgg Saal\, Lindenplatz 1\, 8353 Elgg
TRANSP:OPAQUE
SEQUENCE:0
UID:17549-veranstaltung@kirche-eulachtal.ch
DTSTAMP:20250630T084741Z
DESCRIPTION:Kontakt: Stefan Gruden\n\nWeitere Infos:
  https://www.kirche-eulachtal.ch/veranstaltung/17549
SUMMARY:Konf 9 Elgg
PRIORITY:5
X-MICROSOFT-CDO-IMPORTANCE:1
CLASS:PUBLIC
END:VEVENT
END:VCALENDAR
