BEGIN:VCALENDAR
PRODID:-//kirchenweb.ch gmbh//veranstaltungsausgabe v2.0//DE
VERSION:2.0
METHOD:PUBLISH
BEGIN:VEVENT
DTSTART:20260615T100000Z
DTEND:20260615T113000Z
LOCATION:Pfarrhaus Schlatt\, Kirchgasse11\, 8418 Schlatt
TRANSP:OPAQUE
SEQUENCE:0
UID:17787-veranstaltung@kirche-eulachtal.ch
DTSTAMP:20260414T100718Z
DESCRIPTION:Lunch und anschliessender Unterricht\n\nKontakt: Kathrin
  Rutishauser\nEsther Morf\n\nWeitere Infos:
  https://www.kirche-eulachtal.ch/veranstaltung/17787
SUMMARY:Mittagstisch Plus Schlatt
PRIORITY:5
X-MICROSOFT-CDO-IMPORTANCE:1
CLASS:PUBLIC
END:VEVENT
END:VCALENDAR
