BEGIN:VCALENDAR
PRODID:-//kirchenweb.ch gmbh//veranstaltungsausgabe v2.0//DE
VERSION:2.0
METHOD:PUBLISH
BEGIN:VEVENT
DTSTART:20260507T134500Z
DTEND:20260507T144500Z
LOCATION:Kirchgemeindehaus Elsau Kursraum\, Kirchgasse 2\, 8352 Elsau
TRANSP:OPAQUE
SEQUENCE:0
UID:17981-veranstaltung@kirche-eulachtal.ch
DTSTAMP:20250602T085142Z
DESCRIPTION:Kontakt: Esther Morf\n\nWeitere Infos:
  https://www.kirche-eulachtal.ch/veranstaltung/17981
SUMMARY:3. Klass Unti Elsau
PRIORITY:5
X-MICROSOFT-CDO-IMPORTANCE:1
CLASS:PUBLIC
END:VEVENT
END:VCALENDAR
