BEGIN:VCALENDAR
PRODID:-//kirchenweb.ch gmbh//veranstaltungsausgabe v2.0//DE
VERSION:2.0
METHOD:PUBLISH
BEGIN:VEVENT
DTSTART:20260422T110000Z
DTEND:20260422T151500Z
LOCATION:Garten Eden\, \,
TRANSP:OPAQUE
SEQUENCE:0
UID:17993-veranstaltung@kirche-eulachtal.ch
DTSTAMP:20260420T113457Z
DESCRIPTION:Natur Pur\, mitmachen bei einer Aktion in der Natur.\n
 \nKontakt: Johanna Breidenbach\n\nWeitere Infos:
  https://www.kirche-eulachtal.ch/veranstaltung/17993
SUMMARY:Konf 8 Elgg
PRIORITY:5
X-MICROSOFT-CDO-IMPORTANCE:1
CLASS:PUBLIC
END:VEVENT
END:VCALENDAR
