BEGIN:VCALENDAR
PRODID:-//kirchenweb.ch gmbh//veranstaltungsausgabe v2.0//DE
VERSION:2.0
METHOD:PUBLISH
BEGIN:VEVENT
DTSTART:20260621T080000Z
DTEND:20260621T093000Z
LOCATION:Kirche Elgg\, Lindenplatz 1\, 8353 Elgg
TRANSP:OPAQUE
SEQUENCE:0
UID:18003-veranstaltung@kirche-eulachtal.ch
DTSTAMP:20260402T135633Z
DESCRIPTION:Kontakt: Stefan Gruden\n\nWeitere Infos:
  https://www.kirche-eulachtal.ch/veranstaltung/18003
SUMMARY:Sommer-Mitenand-Gottesdienst mit Taufe\, mit Chinderhüeti
PRIORITY:5
X-MICROSOFT-CDO-IMPORTANCE:1
CLASS:PUBLIC
END:VEVENT
END:VCALENDAR
