BEGIN:VCALENDAR
PRODID:-//kirchenweb.ch gmbh//veranstaltungsausgabe v2.0//DE
VERSION:2.0
METHOD:PUBLISH
BEGIN:VEVENT
DTSTART:20261101T150000Z
DTEND:20261101T160000Z
LOCATION:Friedhof\, \, 8535 Elgg
TRANSP:OPAQUE
SEQUENCE:0
UID:18007-veranstaltung@kirche-eulachtal.ch
DTSTAMP:20250904T135639Z
DESCRIPTION:Kontakt: Jürgen Kaesler\n\nStefan Gruden\n\nWeitere Infos:
  https://www.kirche-eulachtal.ch/veranstaltung/18007
SUMMARY:Ökum. Friedhoffeier Elgg
PRIORITY:5
X-MICROSOFT-CDO-IMPORTANCE:1
CLASS:PUBLIC
END:VEVENT
END:VCALENDAR
