BEGIN:VCALENDAR
PRODID:-//kirchenweb.ch gmbh//veranstaltungsausgabe v2.0//DE
VERSION:2.0
METHOD:PUBLISH
BEGIN:VEVENT
DTSTART:20260902T171500Z
DTEND:20260902T181500Z
LOCATION:Kirche Elgg\, Lindenplatz\, 8353 Elgg
TRANSP:OPAQUE
SEQUENCE:0
UID:18016-veranstaltung@kirche-eulachtal.ch
DTSTAMP:20251106T140849Z
DESCRIPTION:Kontakt: Stefan Gruden\n\n\nWeitere Infos:
  https://www.kirche-eulachtal.ch/veranstaltung/18016
SUMMARY:Taizé-Abendfeier Elgg
PRIORITY:5
X-MICROSOFT-CDO-IMPORTANCE:1
CLASS:PUBLIC
END:VEVENT
END:VCALENDAR
