BEGIN:VCALENDAR
PRODID:-//kirchenweb.ch gmbh//veranstaltungsausgabe v2.0//DE
VERSION:2.0
METHOD:PUBLISH
BEGIN:VEVENT
DTSTART:20261104T181500Z
DTEND:20261104T191500Z
LOCATION:Kirche Elgg\, Lindenplatz\, 8353 Elgg
TRANSP:OPAQUE
SEQUENCE:0
UID:18018-veranstaltung@kirche-eulachtal.ch
DTSTAMP:20251106T143108Z
DESCRIPTION:Kontakt: Stefan Gruden\n\n\nWeitere Infos:
  https://www.kirche-eulachtal.ch/veranstaltung/18018
SUMMARY:Taizé-Abendfeier Elgg
PRIORITY:5
X-MICROSOFT-CDO-IMPORTANCE:1
CLASS:PUBLIC
END:VEVENT
END:VCALENDAR
