BEGIN:VCALENDAR
PRODID:-//kirchenweb.ch gmbh//veranstaltungsausgabe v2.0//DE
VERSION:2.0
METHOD:PUBLISH
BEGIN:VEVENT
DTSTART:20260423T132000Z
DTEND:20260423T140500Z
LOCATION:Schulhaus Hofstetten\, Elggerstr. 5\, 8354 Hofst
TRANSP:OPAQUE
SEQUENCE:0
UID:18193-veranstaltung@kirche-eulachtal.ch
DTSTAMP:20250610T131609Z
DESCRIPTION:Kontakt: Barbara Hofer\n\nWeitere Infos:
  https://www.kirche-eulachtal.ch/veranstaltung/18193
SUMMARY:3.Klass-Unti Hofstetten
PRIORITY:5
X-MICROSOFT-CDO-IMPORTANCE:1
CLASS:PUBLIC
END:VEVENT
END:VCALENDAR
