BEGIN:VCALENDAR
PRODID:-//kirchenweb.ch gmbh//veranstaltungsausgabe v2.0//DE
VERSION:2.0
METHOD:PUBLISH
BEGIN:VEVENT
DTSTART:20260712T080000Z
DTEND:20260712T090000Z
LOCATION:Katholische Kirche\, Winterthurerstr. 5\, 8353 Elgg
TRANSP:OPAQUE
SEQUENCE:0
UID:18203-veranstaltung@kirche-eulachtal.ch
DTSTAMP:20260319T170255Z
DESCRIPTION:Kontakt: Johanna Breidenbach\n\nWeitere Infos:
  https://www.kirche-eulachtal.ch/veranstaltung/18203
SUMMARY:Mitenand-Gottesdienst Elgg
PRIORITY:5
X-MICROSOFT-CDO-IMPORTANCE:1
CLASS:PUBLIC
END:VEVENT
END:VCALENDAR
