BEGIN:VCALENDAR
PRODID:-//kirchenweb.ch gmbh//veranstaltungsausgabe v2.0//DE
VERSION:2.0
METHOD:PUBLISH
BEGIN:VEVENT
DTSTART:20260601T171500Z
DTEND:20260601T174500Z
LOCATION:Katholische Kirche\, Winterthurerstr. 5\, 8353 Elgg
TRANSP:OPAQUE
SEQUENCE:0
UID:18229-veranstaltung@kirche-eulachtal.ch
DTSTAMP:20250612T100153Z
DESCRIPTION:Kontakt: Johanna Breidenbach\n\nWeitere Infos:
  https://www.kirche-eulachtal.ch/veranstaltung/18229
SUMMARY:Ökum. Friedensgebet Elgg
PRIORITY:5
X-MICROSOFT-CDO-IMPORTANCE:1
CLASS:PUBLIC
END:VEVENT
END:VCALENDAR
