BEGIN:VCALENDAR
PRODID:-//kirchenweb.ch gmbh//veranstaltungsausgabe v2.0//DE
VERSION:2.0
METHOD:PUBLISH
BEGIN:VEVENT
DTSTART:20260516T060000Z
DTEND:20260516T100000Z
LOCATION:Lindenplatz\, \,  elgg
TRANSP:OPAQUE
SEQUENCE:0
UID:18295-veranstaltung@kirche-eulachtal.ch
DTSTAMP:20260416T142442Z
DESCRIPTION:chile uf de gass\n\nKontakt: Yvonne Maillard\n\nWeitere Infos:
  https://www.kirche-eulachtal.ch/veranstaltung/18295
SUMMARY:Chile am Märt
PRIORITY:5
X-MICROSOFT-CDO-IMPORTANCE:1
CLASS:PUBLIC
END:VEVENT
END:VCALENDAR
