BEGIN:VCALENDAR
PRODID:-//kirchenweb.ch gmbh//veranstaltungsausgabe v2.0//DE
VERSION:2.0
METHOD:PUBLISH
BEGIN:VEVENT
DTSTART:20260508T101000Z
DTEND:20260508T112500Z
LOCATION:Kirchgemeindehaus Elgg Sitzungszimmer\, Lindenplatz 1\, 8353 Elgg
TRANSP:OPAQUE
SEQUENCE:0
UID:18364-veranstaltung@kirche-eulachtal.ch
DTSTAMP:20260311T100410Z
DESCRIPTION:Kontakt: Barbara Hofer\n\nWeitere Infos:
  https://www.kirche-eulachtal.ch/veranstaltung/18364
SUMMARY:3.Klass-Unti Elgg
PRIORITY:5
X-MICROSOFT-CDO-IMPORTANCE:1
CLASS:PUBLIC
END:VEVENT
END:VCALENDAR
