BEGIN:VCALENDAR
PRODID:-//kirchenweb.ch gmbh//veranstaltungsausgabe v2.0//DE
VERSION:2.0
METHOD:PUBLISH
BEGIN:VEVENT
DTSTART:20260817T121500Z
DTEND:20260817T134500Z
LOCATION:Kirchgemeindehaus  Elsau Saal\, Kirchgasse 2\, 8352 Elsau
TRANSP:OPAQUE
SEQUENCE:0
UID:18549-veranstaltung@kirche-eulachtal.ch
DTSTAMP:20260203T142636Z
DESCRIPTION:Leichter miteinander\n\nAustausch für pflegende und
  begleitende Angehörige.\n\nViele Menschen mit unterschiedlichen
  Krankheitsbildern werden von Ihren Angehörigen daheim unterstützt\,
  betreut und gepflegt. Die Begleitung geht auch bei einem Heimeintritt
  weiter. In allen Situationen ändert sich der Alltag und der Umgang
  miteinander. Emotional wie auch physisch können sich neue
  Herausforderungen stellen. Oft bedarf es Zeit\, Geduld und Energie um mit
  den Verän-derungen einen für alle guten Umgang zu finden.\n\nGespräche
  und Austausch mit Menschen\, denen es ähnlich oder gleicht geht\,
  können bei der Bewältigung des veränderten Alltags unterstützen. Sie
  können ermutigen\, mittragen\, andere Sichtweisen aufzeigen\,
  Verständnis fördern und gegenseitig stärken.\n\nEin Angebot mit
  Pfarrerin Sonja Zryd und Sozialdiakonin Yvonne Maillard\nund der
  Begleitung durch die Pflegefachfrau Rita Hobi\n\n\n\nKontakt: Sonja Zryd
  Mele\n\nWeitere Infos:
  https://www.kirche-eulachtal.ch/veranstaltung/18549
SUMMARY:«Leichter miteinander» Treff für begleitende und pflegende
  Angehörige
PRIORITY:5
X-MICROSOFT-CDO-IMPORTANCE:1
CLASS:PUBLIC
END:VEVENT
END:VCALENDAR
