BEGIN:VCALENDAR
PRODID:-//kirchenweb.ch gmbh//veranstaltungsausgabe v2.0//DE
VERSION:2.0
METHOD:PUBLISH
BEGIN:VEVENT
DTSTART:20260522T140000Z
DTEND:20260522T150000Z
LOCATION:Pflegezentrum Eulachtal\, Vordergasse 3\, 8353 Elgg
TRANSP:OPAQUE
SEQUENCE:0
UID:18771-veranstaltung@kirche-eulachtal.ch
DTSTAMP:20251106T133601Z
DESCRIPTION:Kontakt: Sonja Zryd Mele\n\nWeitere Infos:
  https://www.kirche-eulachtal.ch/veranstaltung/18771
SUMMARY:Andacht im Pflegezentrum Eulachtal
PRIORITY:5
X-MICROSOFT-CDO-IMPORTANCE:1
CLASS:PUBLIC
END:VEVENT
END:VCALENDAR
