BEGIN:VCALENDAR
PRODID:-//kirchenweb.ch gmbh//veranstaltungsausgabe v2.0//DE
VERSION:2.0
METHOD:PUBLISH
BEGIN:VEVENT
DTSTART:20260722T170000Z
DTEND:20260722T180000Z
LOCATION:Kirche Elgg\, Lindenplatz 1\, 8353 Elgg
TRANSP:OPAQUE
SEQUENCE:0
UID:19290-veranstaltung@kirche-eulachtal.ch
DTSTAMP:20250825T112346Z
DESCRIPTION:Bitte mitbringen: Sitzunterlage (Decke oder ähnliches)\,
  evtl. Meditationskissen oder -bänkchen (Stühle vorhanden)\, evtl. warme
  Socken und Decke für die Schultern.\n\nKontakt: Brigitte Widmer\n
 \nWeitere Infos: https://www.kirche-eulachtal.ch/veranstaltung/19290
SUMMARY:Meditation in Elgg
PRIORITY:5
X-MICROSOFT-CDO-IMPORTANCE:1
CLASS:PUBLIC
END:VEVENT
END:VCALENDAR
