BEGIN:VCALENDAR
PRODID:-//kirchenweb.ch gmbh//veranstaltungsausgabe v2.0//DE
VERSION:2.0
METHOD:PUBLISH
BEGIN:VEVENT
DTSTART:20261111T180000Z
DTEND:20261111T190000Z
LOCATION:Kirche Schlatt\, Kirchgasse 11\, 8418 Schlatt
TRANSP:OPAQUE
SEQUENCE:0
UID:19304-veranstaltung@kirche-eulachtal.ch
DTSTAMP:20250825T112642Z
DESCRIPTION:Bitte mitbringen: Sitzunterlage (Decke oder ähnliches)\,
  evtl. Meditationskissen oder -bänkchen (Stühle vorhanden)\, evtl. warme
  Socken und Decke für die Schultern.\n\nKontakt: Brigitte Widmer\n
 \nWeitere Infos: https://www.kirche-eulachtal.ch/veranstaltung/19304
SUMMARY:Meditation in Schlatt
PRIORITY:5
X-MICROSOFT-CDO-IMPORTANCE:1
CLASS:PUBLIC
END:VEVENT
END:VCALENDAR
