BEGIN:VCALENDAR
PRODID:-//kirchenweb.ch gmbh//veranstaltungsausgabe v2.0//DE
VERSION:2.0
METHOD:PUBLISH
BEGIN:VEVENT
DTSTART:20260913T091500Z
DTEND:20260913T101500Z
LOCATION:Kirche Elsau\, Kirchgasse 2\, 8352 Elsau
TRANSP:OPAQUE
SEQUENCE:0
UID:19329-veranstaltung@kirche-eulachtal.ch
DTSTAMP:20260213T090157Z
DESCRIPTION:Kontakt: Sonja Zryd Mele\n\nWeitere Infos:
  https://www.kirche-eulachtal.ch/veranstaltung/19329
SUMMARY:Ökum. Erntedank-Gottesdienst Elsau
PRIORITY:5
X-MICROSOFT-CDO-IMPORTANCE:1
CLASS:PUBLIC
END:VEVENT
END:VCALENDAR
