BEGIN:VCALENDAR
PRODID:-//kirchenweb.ch gmbh//veranstaltungsausgabe v2.0//DE
VERSION:2.0
METHOD:PUBLISH
BEGIN:VEVENT
DTSTART:20261102T133000Z
DTEND:20261102T150000Z
LOCATION:Kirchgemeindehaus Elgg Saal\, Lindenplatz\, 8353 Elgg
TRANSP:OPAQUE
SEQUENCE:0
UID:19740-veranstaltung@kirche-eulachtal.ch
DTSTAMP:20251001T134914Z
DESCRIPTION:Eingeladen sind alle Frauen und Männer\, die gerne singen.
 \nDas Zusammensein soll fröhlich stimmen mit Liedern der \nJahreszeiten\,
  der Gemütlichkeit und der Nostalgie …\n\nHerzlich willkommen!\nIhre
  Gastgeberin Ruth Schär\, Elgg\n\n\nKontakt: Yvonne Maillard\n\nWeitere
  Infos: https://www.kirche-eulachtal.ch/veranstaltung/19740
SUMMARY:Ökum. Singnachmittag Elgg
PRIORITY:5
X-MICROSOFT-CDO-IMPORTANCE:1
CLASS:PUBLIC
END:VEVENT
END:VCALENDAR
