BEGIN:VCALENDAR
PRODID:-//kirchenweb.ch gmbh//veranstaltungsausgabe v2.0//DE
VERSION:2.0
METHOD:PUBLISH
BEGIN:VEVENT
DTSTART:20260709T120000Z
DTEND:20260709T150000Z
LOCATION:Kirchgemeindehaus Elgg Werkraum\, Lindenplatz\, 8353 Elgg
TRANSP:OPAQUE
SEQUENCE:0
UID:20170-veranstaltung@kirche-eulachtal.ch
DTSTAMP:20251124T133631Z
DESCRIPTION:Kontakt: Amal Savasci\nLindenplatz 4\n8353 Elgg\n 079 383 31
  87\n\nWeitere Infos: https://www.kirche-eulachtal.ch/veranstaltung/20170
SUMMARY:Café International Elgg
PRIORITY:5
X-MICROSOFT-CDO-IMPORTANCE:1
CLASS:PUBLIC
END:VEVENT
END:VCALENDAR
