BEGIN:VCALENDAR
PRODID:-//kirchenweb.ch gmbh//veranstaltungsausgabe v2.0//DE
VERSION:2.0
METHOD:PUBLISH
BEGIN:VEVENT
DTSTART:20260930T173000Z
DTEND:20260930T190000Z
LOCATION:rundum.müli Elgg\, \,
TRANSP:OPAQUE
SEQUENCE:0
UID:20522-veranstaltung@kirche-eulachtal.ch
DTSTAMP:20251224T074206Z
DESCRIPTION:Gesprächsabend "Blickwechsel" in der rundum.müli Elgg.
 \nThemen:\n12.02.26: Getrennt\, geschieden - was jetzt? mit Pfrn. Johanna
  Breidenbach\n25.06.26: Suizid. mit Pfrn. Johanna Breidenbach\n30.09.26:
  Abschied von der  Zweisamkeit - Paar werden\, Paar bleiben. mit Pfr.
  Stefan Gruden\n\nKontakt: Johanna Breidenbach\n\nWeitere Infos:
  https://www.kirche-eulachtal.ch/veranstaltung/20522
SUMMARY:rundum.müli: Blickwechsel
PRIORITY:5
X-MICROSOFT-CDO-IMPORTANCE:1
CLASS:PUBLIC
END:VEVENT
END:VCALENDAR
