BEGIN:VCALENDAR
PRODID:-//kirchenweb.ch gmbh//veranstaltungsausgabe v2.0//DE
VERSION:2.0
METHOD:PUBLISH
BEGIN:VEVENT
DTSTART:20261111T130000Z
DTEND:20261111T160000Z
LOCATION:Kirchgemeindehaus Elgg Werkraum\, Lindenplatz 1\, 8353 Elgg
TRANSP:OPAQUE
SEQUENCE:0
UID:20706-veranstaltung@kirche-eulachtal.ch
DTSTAMP:20260217T145651Z
DESCRIPTION:\n\nKontakt: Barbara Hofer\nKathrin Rutishauser\n\nWeitere
  Infos: https://www.kirche-eulachtal.ch/veranstaltung/20706
SUMMARY:Club 4 ABCD Elgg
PRIORITY:5
X-MICROSOFT-CDO-IMPORTANCE:1
CLASS:PUBLIC
END:VEVENT
END:VCALENDAR
