BEGIN:VCALENDAR
PRODID:-//kirchenweb.ch gmbh//veranstaltungsausgabe v2.0//DE
VERSION:2.0
METHOD:PUBLISH
BEGIN:VEVENT
DTSTART:20260523T080000Z
DTEND:20260523T100000Z
LOCATION:Kirche Elsau\, Kirchgasse 2\, 8352 Elsau
TRANSP:OPAQUE
SEQUENCE:0
UID:20720-veranstaltung@kirche-eulachtal.ch
DTSTAMP:20260402T135752Z
DESCRIPTION:Kontakt: Sonja Zryd Mele\n\nWeitere Infos:
  https://www.kirche-eulachtal.ch/veranstaltung/20720
SUMMARY:Konf 9 Hauptprobe Elsau
PRIORITY:5
X-MICROSOFT-CDO-IMPORTANCE:1
CLASS:PUBLIC
END:VEVENT
END:VCALENDAR
