BEGIN:VCALENDAR
PRODID:-//kirchenweb.ch gmbh//veranstaltungsausgabe v2.0//DE
VERSION:2.0
METHOD:PUBLISH
BEGIN:VEVENT
DTSTART:20260827T163000Z
DTEND:20260827T180000Z
LOCATION:Kirchgemeindehaus Elgg Saal\, Lindenplatz 1\, 8353 Elgg
TRANSP:OPAQUE
SEQUENCE:0
UID:20730-veranstaltung@kirche-eulachtal.ch
DTSTAMP:20260224T134830Z
DESCRIPTION:Kontakt: Johanna Breidenbach\n\nWeitere Infos:
  https://www.kirche-eulachtal.ch/veranstaltung/20730
SUMMARY:Konf9-Begrüssungsabend
PRIORITY:5
X-MICROSOFT-CDO-IMPORTANCE:1
CLASS:PUBLIC
END:VEVENT
END:VCALENDAR
