BEGIN:VCALENDAR
PRODID:-//kirchenweb.ch gmbh//veranstaltungsausgabe v2.0//DE
VERSION:2.0
METHOD:PUBLISH
BEGIN:VEVENT
DTSTART:20270116T080000Z
DTEND:20270116T110000Z
LOCATION:Kirchgemeindehaus Elgg Werkraum\, Lindenplatz 1\, 8353 Elgg
TRANSP:OPAQUE
SEQUENCE:0
UID:20742-veranstaltung@kirche-eulachtal.ch
DTSTAMP:20260302T132204Z
DESCRIPTION:Kontakt: Barbara Hofer\n\nWeitere Infos:
  https://www.kirche-eulachtal.ch/veranstaltung/20742
SUMMARY:Juki 5B Elgg
PRIORITY:5
X-MICROSOFT-CDO-IMPORTANCE:1
CLASS:PUBLIC
END:VEVENT
END:VCALENDAR
