BEGIN:VCALENDAR
PRODID:-//kirchenweb.ch gmbh//veranstaltungsausgabe v2.0//DE
VERSION:2.0
METHOD:PUBLISH
BEGIN:VEVENT
DTSTART:20261106T171500Z
DTEND:20261106T210000Z
LOCATION:Winterthur Stadtkirche\, \,
TRANSP:OPAQUE
SEQUENCE:0
UID:20757-veranstaltung@kirche-eulachtal.ch
DTSTAMP:20260303T140105Z
DESCRIPTION:Nacht der Lichter - Exkursion nach Winterthur\n\nKontakt:
  Barbara Hofer\n\nWeitere Infos:
  https://www.kirche-eulachtal.ch/veranstaltung/20757
SUMMARY:Juki 6/7 Elgg
PRIORITY:5
X-MICROSOFT-CDO-IMPORTANCE:1
CLASS:PUBLIC
END:VEVENT
END:VCALENDAR
