BEGIN:VCALENDAR
PRODID:-//kirchenweb.ch gmbh//veranstaltungsausgabe v2.0//DE
VERSION:2.0
METHOD:PUBLISH
BEGIN:VEVENT
DTSTART:20270310T140000Z
DTEND:20270310T170000Z
LOCATION:Kirchgemeindehaus Elgg Werkraum\, Lindenplatz 1\, 8353 Elgg
TRANSP:OPAQUE
SEQUENCE:0
UID:20766-veranstaltung@kirche-eulachtal.ch
DTSTAMP:20260303T130715Z
DESCRIPTION:Helen Keller -"Sehen mit der Seele"\n\nKontakt: Barbara Hofer
 \n\nWeitere Infos: https://www.kirche-eulachtal.ch/veranstaltung/20766
SUMMARY:Juki 6/7 Elgg
PRIORITY:5
X-MICROSOFT-CDO-IMPORTANCE:1
CLASS:PUBLIC
END:VEVENT
END:VCALENDAR
