BEGIN:VCALENDAR
PRODID:-//kirchenweb.ch gmbh//veranstaltungsausgabe v2.0//DE
VERSION:2.0
METHOD:PUBLISH
BEGIN:VEVENT
DTSTART:20270421T110000Z
DTEND:20270421T153000Z
LOCATION:Exkursion nach Zürich\, \,
TRANSP:OPAQUE
SEQUENCE:0
UID:20769-veranstaltung@kirche-eulachtal.ch
DTSTAMP:20260303T135328Z
DESCRIPTION:Die Zürcher Reformation - Es geht um die Wurst\nExkursion
  nach Zürich\n\nKontakt: Barbara Hofer\n\nWeitere Infos:
  https://www.kirche-eulachtal.ch/veranstaltung/20769
SUMMARY:Juki 6/7 Elgg
PRIORITY:5
X-MICROSOFT-CDO-IMPORTANCE:1
CLASS:PUBLIC
END:VEVENT
END:VCALENDAR
