BEGIN:VCALENDAR
PRODID:-//kirchenweb.ch gmbh//veranstaltungsausgabe v2.0//DE
VERSION:2.0
METHOD:PUBLISH
BEGIN:VEVENT
DTSTART:20270616T140000Z
DTEND:20270616T170000Z
LOCATION:Kirchgemeindehaus Elgg Werkraum\, Lindenplatz 1\, 8353 Elgg
TRANSP:OPAQUE
SEQUENCE:0
UID:20772-veranstaltung@kirche-eulachtal.ch
DTSTAMP:20260303T133534Z
DESCRIPTION:Wertlos - Wertvoll - Vollwert\n\nKontakt: Barbara Hofer\n
 \nWeitere Infos: https://www.kirche-eulachtal.ch/veranstaltung/20772
SUMMARY:Juki 6/7 Elgg
PRIORITY:5
X-MICROSOFT-CDO-IMPORTANCE:1
CLASS:PUBLIC
END:VEVENT
END:VCALENDAR
