BEGIN:VCALENDAR
PRODID:-//kirchenweb.ch gmbh//veranstaltungsausgabe v2.0//DE
VERSION:2.0
METHOD:PUBLISH
BEGIN:VEVENT
DTSTART:20270623T140000Z
DTEND:20270623T170000Z
LOCATION:Kirchgemeindehaus Elgg Saal\, Lindenplatz 1\, 8353 Elgg
TRANSP:OPAQUE
SEQUENCE:0
UID:20773-veranstaltung@kirche-eulachtal.ch
DTSTAMP:20260303T133654Z
DESCRIPTION:Susanna Orelli\n\nKontakt: Barbara Hofer\n\nWeitere Infos:
  https://www.kirche-eulachtal.ch/veranstaltung/20773
SUMMARY:Juki 6/7 Elgg
PRIORITY:5
X-MICROSOFT-CDO-IMPORTANCE:1
CLASS:PUBLIC
END:VEVENT
END:VCALENDAR
