BEGIN:VCALENDAR
PRODID:-//kirchenweb.ch gmbh//veranstaltungsausgabe v2.0//DE
VERSION:2.0
METHOD:PUBLISH
BEGIN:VEVENT
DTSTART:20270625T150000Z
DTEND:20270625T173000Z
LOCATION:Kirchgemeindehaus Elgg Saal\, Lindenplatz 1\, 8353 Elgg
TRANSP:OPAQUE
SEQUENCE:0
UID:20774-veranstaltung@kirche-eulachtal.ch
DTSTAMP:20260310T140326Z
DESCRIPTION:Juki Gottesdient von Juki 7 für alle Juki\n\nKontakt: Barbara
  Hofer\n\nWeitere Infos:
  https://www.kirche-eulachtal.ch/veranstaltung/20774
SUMMARY:Juki 6/7 Elgg
PRIORITY:5
X-MICROSOFT-CDO-IMPORTANCE:1
CLASS:PUBLIC
END:VEVENT
END:VCALENDAR
