BEGIN:VCALENDAR
PRODID:-//kirchenweb.ch gmbh//veranstaltungsausgabe v2.0//DE
VERSION:2.0
METHOD:PUBLISH
BEGIN:VEVENT
DTSTART:20270330T150000Z
DTEND:20270330T180000Z
LOCATION:Kirchgemeindehaus Elgg Saal\, Lindenplatz 1\, 8353 Elgg
TRANSP:OPAQUE
SEQUENCE:0
UID:20776-veranstaltung@kirche-eulachtal.ch
DTSTAMP:20260303T134912Z
DESCRIPTION:Wunder?! - Glauben?!\n\nKontakt: Barbara Hofer\n\nWeitere
  Infos: https://www.kirche-eulachtal.ch/veranstaltung/20776
SUMMARY:Juki 6/7
PRIORITY:5
X-MICROSOFT-CDO-IMPORTANCE:1
CLASS:PUBLIC
END:VEVENT
END:VCALENDAR
