BEGIN:VCALENDAR
PRODID:-//kirchenweb.ch gmbh//veranstaltungsausgabe v2.0//DE
VERSION:2.0
METHOD:PUBLISH
BEGIN:VEVENT
DTSTART:20270123T080000Z
DTEND:20270123T100000Z
LOCATION:Kirchgemeindehaus Elgg Werkraum\, Lindenplatz 1\, 8353 Elgg
TRANSP:OPAQUE
SEQUENCE:0
UID:20789-veranstaltung@kirche-eulachtal.ch
DTSTAMP:20260309T150723Z
DESCRIPTION:KIKI-Morgen - gemeinsam singen\, biblische Geschichten
  hören\, beten\, basteln...\nFür alle Kinder ab Kindergarten bis zur
  6.Klasse\n\nKontakt: Barbara Hofer\n\nWeitere Infos:
  https://www.kirche-eulachtal.ch/veranstaltung/20789
SUMMARY:KIKI-Morgen
PRIORITY:5
X-MICROSOFT-CDO-IMPORTANCE:1
CLASS:PUBLIC
END:VEVENT
END:VCALENDAR
