BEGIN:VCALENDAR
PRODID:-//kirchenweb.ch gmbh//veranstaltungsausgabe v2.0//DE
VERSION:2.0
METHOD:PUBLISH
BEGIN:VEVENT
DTSTART:20270405T070000Z
DTEND:20270405T140000Z
LOCATION:Kirchgemeindehaus Elgg Saal\, Lindenplatz 1\, 8353 Elgg
TRANSP:OPAQUE
SEQUENCE:0
UID:20794-veranstaltung@kirche-eulachtal.ch
DTSTAMP:20260309T151309Z
DESCRIPTION:Kontakt: Barbara Hofer\n\nKarin Michel\n\nWeitere Infos:
  https://www.kirche-eulachtal.ch/veranstaltung/20794
SUMMARY:Kinder-Tageslager KiKi Elgg
PRIORITY:5
X-MICROSOFT-CDO-IMPORTANCE:1
CLASS:PUBLIC
END:VEVENT
END:VCALENDAR
