BEGIN:VCALENDAR
PRODID:-//kirchenweb.ch gmbh//veranstaltungsausgabe v2.0//DE
VERSION:2.0
METHOD:PUBLISH
BEGIN:VEVENT
DTSTART:20270524T070000Z
DTEND:20270524T080000Z
LOCATION:Pfarrhaus Schlatt\, Kirchgasse11\, 8418 Schlatt
TRANSP:OPAQUE
SEQUENCE:0
UID:20829-veranstaltung@kirche-eulachtal.ch
DTSTAMP:20260310T130309Z
DESCRIPTION:Kontakt: Maria-Cristina Ganz\n\nWeitere Infos:
  https://www.kirche-eulachtal.ch/veranstaltung/20829
SUMMARY:Bibel-Gschichtä Singä
PRIORITY:5
X-MICROSOFT-CDO-IMPORTANCE:1
CLASS:PUBLIC
END:VEVENT
END:VCALENDAR
