BEGIN:VCALENDAR
PRODID:-//kirchenweb.ch gmbh//veranstaltungsausgabe v2.0//DE
VERSION:2.0
METHOD:PUBLISH
BEGIN:VEVENT
DTSTART:20260509T060000Z
DTEND:20260509T200000Z
LOCATION:Kirchgemeindehaus Elgg Saal\, Lindenplatz 1\, 8353 Elgg
TRANSP:OPAQUE
SEQUENCE:0
UID:20839-veranstaltung@kirche-eulachtal.ch
DTSTAMP:20260311T100701Z
DESCRIPTION:Kontakt: Erich Wegmann\, WAK\, ewegmann@bluewin.ch\n\nWeitere
  Infos: https://www.kirche-eulachtal.ch/veranstaltung/20839
SUMMARY:Gewerbeausstellung
PRIORITY:5
X-MICROSOFT-CDO-IMPORTANCE:1
CLASS:PUBLIC
END:VEVENT
END:VCALENDAR
