BEGIN:VCALENDAR
PRODID:-//kirchenweb.ch gmbh//veranstaltungsausgabe v2.0//DE
VERSION:2.0
METHOD:PUBLISH
BEGIN:VEVENT
DTSTART:20270314T090000Z
DTEND:20270314T100000Z
LOCATION:Kirche Elgg\, Lindenplatz 1\, 8353 Elgg
TRANSP:OPAQUE
SEQUENCE:0
UID:20852-veranstaltung@kirche-eulachtal.ch
DTSTAMP:20260326T101459Z
DESCRIPTION:Kontakt: Stefan Gruden\nYvonne Maillard\n\nWeitere Infos:
  https://www.kirche-eulachtal.ch/veranstaltung/20852
SUMMARY:Ökum. Suppentags-Gottesdienst Elgg
PRIORITY:5
X-MICROSOFT-CDO-IMPORTANCE:1
CLASS:PUBLIC
END:VEVENT
END:VCALENDAR
