BEGIN:VCALENDAR
PRODID:-//kirchenweb.ch gmbh//veranstaltungsausgabe v2.0//DE
VERSION:2.0
METHOD:PUBLISH
BEGIN:VEVENT
DTSTART:20271114T153000Z
DTEND:20271114T163000Z
LOCATION:Kirchgemeindehaus Elgg Saal\, Lindenplatz 1\, 8353 Elgg
TRANSP:OPAQUE
SEQUENCE:0
UID:20854-veranstaltung@kirche-eulachtal.ch
DTSTAMP:20260326T140203Z
DESCRIPTION:Kontakt: Gaby Steinemann\n\nWeitere Infos:
  https://www.kirche-eulachtal.ch/veranstaltung/20854
SUMMARY:Kammermusikkonzert
PRIORITY:5
X-MICROSOFT-CDO-IMPORTANCE:1
CLASS:PUBLIC
END:VEVENT
END:VCALENDAR
