BEGIN:VCALENDAR
PRODID:-//kirchenweb.ch gmbh//veranstaltungsausgabe v2.0//DE
VERSION:2.0
METHOD:PUBLISH
BEGIN:VEVENT
DTSTART:20260516T080000Z
DTEND:20260516T100000Z
LOCATION:Kirche Schlatt\, Kirchgasse 11\, 8418 Schlatt
TRANSP:OPAQUE
SEQUENCE:0
UID:20865-veranstaltung@kirche-eulachtal.ch
DTSTAMP:20260402T135713Z
DESCRIPTION:Kontakt: Sonja Zryd Mele\n\nWeitere Infos:
  https://www.kirche-eulachtal.ch/veranstaltung/20865
SUMMARY:Konf 9 Hauptprobe Schlatt
PRIORITY:5
X-MICROSOFT-CDO-IMPORTANCE:1
CLASS:PUBLIC
END:VEVENT
END:VCALENDAR
