BEGIN:VCALENDAR
PRODID:-//kirchenweb.ch gmbh//veranstaltungsausgabe v2.0//DE
VERSION:2.0
METHOD:PUBLISH
BEGIN:VEVENT
DTSTART:20231112T153000Z
DTEND:20231112T163000Z
LOCATION:Kirchgemeindehaus Elgg Saal\, Lindenplatz 1\, 8353 Elgg
TRANSP:OPAQUE
SEQUENCE:0
UID:7428-veranstaltung@kirche-eulachtal.ch
DTSTAMP:20231106T101012Z
DESCRIPTION:Duo Flautastico\n\nKontakt: Christa Hug\n\nWeitere Infos:
  https://www.kirche-eulachtal.ch/veranstaltung/7428
SUMMARY:Kammer-Musik Konzert Elgg
PRIORITY:5
X-MICROSOFT-CDO-IMPORTANCE:1
CLASS:PUBLIC
END:VEVENT
END:VCALENDAR
