BEGIN:VCALENDAR
PRODID:-//kirchenweb.ch gmbh//veranstaltungsausgabe v2.0//DE
VERSION:2.0
METHOD:PUBLISH
BEGIN:VEVENT
DTSTART:20231112T083000Z
DTEND:20231112T093000Z
LOCATION:Kirche Elgg\, Lindenplatz 1\, 8353 Elgg
TRANSP:OPAQUE
SEQUENCE:0
UID:9801-veranstaltung@kirche-eulachtal.ch
DTSTAMP:20240530T083750Z
DESCRIPTION:Kontakt: Stefan Gruden\n\nWeitere Infos:
  https://www.kirche-eulachtal.ch/veranstaltung/9801
SUMMARY:Gottesdienst Elgg mit 3. Klass-Unti "Taufe"
PRIORITY:5
X-MICROSOFT-CDO-IMPORTANCE:1
CLASS:PUBLIC
END:VEVENT
END:VCALENDAR
